BEGIN:VCALENDAR
VERSION:2.0
PRODID:-//FYCMA - ECPv6.15.20//NONSGML v1.0//EN
CALSCALE:GREGORIAN
METHOD:PUBLISH
X-WR-CALNAME:FYCMA
X-ORIGINAL-URL:https://fycma.com/?lang=en
X-WR-CALDESC:Events for FYCMA
REFRESH-INTERVAL;VALUE=DURATION:PT1H
X-Robots-Tag:noindex
X-PUBLISHED-TTL:PT1H
BEGIN:VTIMEZONE
TZID:Europe/Madrid
BEGIN:DAYLIGHT
TZOFFSETFROM:+0100
TZOFFSETTO:+0200
TZNAME:CEST
DTSTART:20220327T010000
END:DAYLIGHT
BEGIN:STANDARD
TZOFFSETFROM:+0200
TZOFFSETTO:+0100
TZNAME:CET
DTSTART:20221030T010000
END:STANDARD
BEGIN:DAYLIGHT
TZOFFSETFROM:+0100
TZOFFSETTO:+0200
TZNAME:CEST
DTSTART:20230326T010000
END:DAYLIGHT
BEGIN:STANDARD
TZOFFSETFROM:+0200
TZOFFSETTO:+0100
TZNAME:CET
DTSTART:20231029T010000
END:STANDARD
BEGIN:DAYLIGHT
TZOFFSETFROM:+0100
TZOFFSETTO:+0200
TZNAME:CEST
DTSTART:20240331T010000
END:DAYLIGHT
BEGIN:STANDARD
TZOFFSETFROM:+0200
TZOFFSETTO:+0100
TZNAME:CET
DTSTART:20241027T010000
END:STANDARD
END:VTIMEZONE
BEGIN:VEVENT
DTSTART;TZID=Europe/Madrid:20230328T090000
DTEND;TZID=Europe/Madrid:20230328T180000
DTSTAMP:20260422T112821
CREATED:20230323T151857Z
LAST-MODIFIED:20230323T152612Z
UID:10001224-1679994000-1680026400@fycma.com
SUMMARY:II Emplea Turismo Costa del Sol Conference
DESCRIPTION:II Emplea Turismo Costa del Sol Conference\nFind the job that best suits you\nIf you are looking for trained staff for your business\, whether in the kitchen or in the dining room\, or sommelier\, cocktail bar\, marketing… All profiles will be available at the II Emplea Turismo Málaga Costa del Sol Conference\, to be held on 28 March at Trade Fairs and Congress Center of Málaga\, from 9am to 6pm. \nWhat will you find?\n\nAttendance of candidates with training in hotel and catering with a need for permeability not only in the city of Malaga\, but also in the province.\nExhibition spaces of companies that need good professionals for their hotel and catering establishments.
URL:https://fycma.com/evento/ii-jornada-emplea-turismo-costa-del-sol/?lang=en
LOCATION:Fycma – Palacio de Ferias y Congresos de Málaga.\, Avenida Ortega y Gasset\, 201\, Málaga\, Málaga\, 29006\, España
CATEGORIES:Entry or registration available,Meetings
ATTACH;FMTTYPE=image/jpeg:https://fycma.com/wp-content/uploads/2023/03/Cartel-Jornada-Emplea-Turismo.jpg
ORGANIZER;CN="Mahos":MAILTO:info@mahos.es
END:VEVENT
END:VCALENDAR