BEGIN:VCALENDAR
VERSION:2.0
PRODID:-//FYCMA - ECPv6.15.20//NONSGML v1.0//EN
CALSCALE:GREGORIAN
METHOD:PUBLISH
X-ORIGINAL-URL:https://fycma.com/?lang=en
X-WR-CALDESC:Events for FYCMA
REFRESH-INTERVAL;VALUE=DURATION:PT1H
X-Robots-Tag:noindex
X-PUBLISHED-TTL:PT1H
BEGIN:VTIMEZONE
TZID:Europe/Madrid
BEGIN:DAYLIGHT
TZOFFSETFROM:+0100
TZOFFSETTO:+0200
TZNAME:CEST
DTSTART:20240331T010000
END:DAYLIGHT
BEGIN:STANDARD
TZOFFSETFROM:+0200
TZOFFSETTO:+0100
TZNAME:CET
DTSTART:20241027T010000
END:STANDARD
BEGIN:DAYLIGHT
TZOFFSETFROM:+0100
TZOFFSETTO:+0200
TZNAME:CEST
DTSTART:20250330T010000
END:DAYLIGHT
BEGIN:STANDARD
TZOFFSETFROM:+0200
TZOFFSETTO:+0100
TZNAME:CET
DTSTART:20251026T010000
END:STANDARD
BEGIN:DAYLIGHT
TZOFFSETFROM:+0100
TZOFFSETTO:+0200
TZNAME:CEST
DTSTART:20260329T010000
END:DAYLIGHT
BEGIN:STANDARD
TZOFFSETFROM:+0200
TZOFFSETTO:+0100
TZNAME:CET
DTSTART:20261025T010000
END:STANDARD
END:VTIMEZONE
BEGIN:VEVENT
DTSTART;VALUE=DATE:20250623
DTEND;VALUE=DATE:20250627
DTSTAMP:20260423T163053
CREATED:20250114T115732Z
LAST-MODIFIED:20250304T121217Z
UID:10001511-1750636800-1750982399@fycma.com
SUMMARY:FORUM ACUSTICUM EURONOISE 2025
DESCRIPTION:Forum Acusticum / Euronoise 2025\, the 11th EAA Annual European Conference on Acoustics and Noise Control Engineering\, joint with the XLVI Spanish Acoustic Conference TECNIACUSTICA 2025 promises to be a premier gathering of renowned experts\, researchers and professionals in the field of acoustics\, providing a platform for the exchange of cutting-edge knowledge and collaborative discussions. \nThe technical programme will cover a wide range of topics including a comprehensive range of sessions\, keynote presentations and technical activities aimed at exploring the latest developments and trends in acoustics. In addition\, the Congress will host a technical exhibition\, providing a platform for the industry’s leading companies to display their latest technical innovations and advances in the field of acoustics. Forum Acusticum / Euronoise 2025 also aims to create a well-rounded experience for delegates and accompanying persons through an engaging social programme.
URL:https://fycma.com/evento/forum-acusticum-euronoise-2025/?lang=en
LOCATION:Fycma – Palacio de Ferias y Congresos de Málaga.\, Avenida Ortega y Gasset\, 201\, Málaga\, Málaga\, 29006\, España
CATEGORIES:Congress,Entry or registration available,Meetings,Other events
ATTACH;FMTTYPE=image/jpeg:https://fycma.com/wp-content/uploads/2018/07/500x500-1.jpg
END:VEVENT
END:VCALENDAR