BEGIN:VCALENDAR
VERSION:2.0
PRODID:-//FYCMA - ECPv6.15.20//NONSGML v1.0//EN
CALSCALE:GREGORIAN
METHOD:PUBLISH
X-WR-CALNAME:FYCMA
X-ORIGINAL-URL:https://fycma.com/?lang=en
X-WR-CALDESC:Events for FYCMA
REFRESH-INTERVAL;VALUE=DURATION:PT1H
X-Robots-Tag:noindex
X-PUBLISHED-TTL:PT1H
BEGIN:VTIMEZONE
TZID:Europe/Madrid
BEGIN:DAYLIGHT
TZOFFSETFROM:+0100
TZOFFSETTO:+0200
TZNAME:CEST
DTSTART:20240331T010000
END:DAYLIGHT
BEGIN:STANDARD
TZOFFSETFROM:+0200
TZOFFSETTO:+0100
TZNAME:CET
DTSTART:20241027T010000
END:STANDARD
BEGIN:DAYLIGHT
TZOFFSETFROM:+0100
TZOFFSETTO:+0200
TZNAME:CEST
DTSTART:20250330T010000
END:DAYLIGHT
BEGIN:STANDARD
TZOFFSETFROM:+0200
TZOFFSETTO:+0100
TZNAME:CET
DTSTART:20251026T010000
END:STANDARD
BEGIN:DAYLIGHT
TZOFFSETFROM:+0100
TZOFFSETTO:+0200
TZNAME:CEST
DTSTART:20260329T010000
END:DAYLIGHT
BEGIN:STANDARD
TZOFFSETFROM:+0200
TZOFFSETTO:+0100
TZNAME:CET
DTSTART:20261025T010000
END:STANDARD
END:VTIMEZONE
BEGIN:VEVENT
DTSTART;VALUE=DATE:20251007
DTEND;VALUE=DATE:20251009
DTSTAMP:20260423T174242
CREATED:20250213T090641Z
LAST-MODIFIED:20250401T081607Z
UID:10001532-1759795200-1759967999@fycma.com
SUMMARY:Global Photonics Economic Forum (GPEF2025)
DESCRIPTION:Organized by Optica\, the Second Edition of GPEF will take place in Málaga\, Spain\, in October 2025. Building on the success of the 2024 event\, this year’s forum expands its global reach\, impact\, and influence. \nAs photonics continues to shape global infrastructure and technological innovation\, this forum serves as a premier platform for industry leaders\, policymakers\, and investors driving the future of optics and photonics. \nWhy Attend? \n\nStrategic Dialogue – High-level discussions on global challenges\, investments\, and innovations in photonics.\nExclusive Networking – Connect with top executives\, policymakers\, and investors shaping the industry.\nExecutive Leadership – Introducing the GPEF Board of Trustees\, featuring industry leaders: Gregg Bartlett (CTO of GlobalFoundries)\, John T.C. Lee (CEO of MKS Instruments)\, Edwin Roks (CEO of Teledyne Technologies)\, Chuck Mattera (Former CEO of Coherent)\, Marisa Edmund (CEO of Edmund Optics)\, Reinhard Voelkel (CEO of Focuslight Switzerland and co-chairman of the GPEF)\, and Michael Lebby (Board Member at Optica and a globally recognized photonics technology expert).\n\nJoin us in Málaga to shape the future of photonics! Learn more
URL:https://fycma.com/evento/global-photonics-economic-forum-gpef2025/?lang=en
LOCATION:Fycma – Palacio de Ferias y Congresos de Málaga.\, Avenida Ortega y Gasset\, 201\, Málaga\, Málaga\, 29006\, España
CATEGORIES:Congress,Entry or registration available
ATTACH;FMTTYPE=image/jpeg:https://fycma.com/wp-content/uploads/2018/07/500x500-1.jpg
ORGANIZER;CN="Optica":MAILTO:cpanos-gomez@optica.org
END:VEVENT
BEGIN:VEVENT
DTSTART;VALUE=DATE:20251008
DTEND;VALUE=DATE:20251011
DTSTAMP:20260423T174242
CREATED:20250313T104549Z
LAST-MODIFIED:20250520T102322Z
UID:10001542-1759881600-1760140799@fycma.com
SUMMARY:42nd National Congress of Engineering in the Healthcare Sector
DESCRIPTION:Malaga will become the meeting point for Hospital Engineering and Architecture at national level with the 42nd Hospital Engineering Seminar. A space in which the scientific work of the Association is made known\, bringing together professionals in various disciplines linked to Health and companies in the sector\, also promoting the exchange of experiences and knowledge of the world of Health.
URL:https://fycma.com/evento/42o-congreso-nacional-de-ingenieria-del-sector-de-la-sanidad/?lang=en
LOCATION:Fycma – Palacio de Ferias y Congresos de Málaga.\, Avenida Ortega y Gasset\, 201\, Málaga\, Málaga\, 29006\, España
CATEGORIES:Congress,Entry or registration available
ATTACH;FMTTYPE=image/png:https://fycma.com/wp-content/uploads/2025/03/42-congreso-nacional-de-ingenieria-sanidad.png
END:VEVENT
END:VCALENDAR