BEGIN:VCALENDAR
VERSION:2.0
PRODID:-//FYCMA - ECPv6.15.20//NONSGML v1.0//EN
CALSCALE:GREGORIAN
METHOD:PUBLISH
X-ORIGINAL-URL:https://fycma.com/?lang=en
X-WR-CALDESC:Events for FYCMA
REFRESH-INTERVAL;VALUE=DURATION:PT1H
X-Robots-Tag:noindex
X-PUBLISHED-TTL:PT1H
BEGIN:VTIMEZONE
TZID:Europe/Madrid
BEGIN:DAYLIGHT
TZOFFSETFROM:+0100
TZOFFSETTO:+0200
TZNAME:CEST
DTSTART:20240331T010000
END:DAYLIGHT
BEGIN:STANDARD
TZOFFSETFROM:+0200
TZOFFSETTO:+0100
TZNAME:CET
DTSTART:20241027T010000
END:STANDARD
BEGIN:DAYLIGHT
TZOFFSETFROM:+0100
TZOFFSETTO:+0200
TZNAME:CEST
DTSTART:20250330T010000
END:DAYLIGHT
BEGIN:STANDARD
TZOFFSETFROM:+0200
TZOFFSETTO:+0100
TZNAME:CET
DTSTART:20251026T010000
END:STANDARD
BEGIN:DAYLIGHT
TZOFFSETFROM:+0100
TZOFFSETTO:+0200
TZNAME:CEST
DTSTART:20260329T010000
END:DAYLIGHT
BEGIN:STANDARD
TZOFFSETFROM:+0200
TZOFFSETTO:+0100
TZNAME:CET
DTSTART:20261025T010000
END:STANDARD
END:VTIMEZONE
BEGIN:VEVENT
DTSTART;VALUE=DATE:20251028
DTEND;VALUE=DATE:20251031
DTSTAMP:20260423T174401
CREATED:20250210T085207Z
LAST-MODIFIED:20250401T081944Z
UID:10001526-1761609600-1761868799@fycma.com
SUMMARY:Expo Agritech 2025\, La Feria del Campo 4.0
DESCRIPTION:Expo Agritech 2025 is the technology event that drives the competitiveness of the agricultural sector through innovation\, technology\, and sustainability. It brings together farm owners\, farmers\, agronomists\, agricultural technicians\, cooperatives\, and associations in search of the latest technological solutions such as machinery\, water resource management\, post-harvest\, greenhouses\, biotechnology\, and food safety\, among others\, in a space that also hosts the Agritech 4.0 Congress\, where over 400 experts share their success stories in response to the current challenges of the sector.
URL:https://fycma.com/evento/expo-agritech-2025-la-feria-del-campo-4-0/?lang=en
LOCATION:Fycma – Palacio de Ferias y Congresos de Málaga.\, Avenida Ortega y Gasset\, 201\, Málaga\, Málaga\, 29006\, España
CATEGORIES:Congress,Entry or registration available,Meetings,Other events
ATTACH;FMTTYPE=image/jpeg:https://fycma.com/wp-content/uploads/2024/07/PORTADA-AGRITECH.jpg
END:VEVENT
END:VCALENDAR