BEGIN:VCALENDAR
VERSION:2.0
PRODID:-//FYCMA - ECPv6.15.20//NONSGML v1.0//EN
CALSCALE:GREGORIAN
METHOD:PUBLISH
X-ORIGINAL-URL:https://fycma.com
X-WR-CALDESC:Eventos para FYCMA
REFRESH-INTERVAL;VALUE=DURATION:PT1H
X-Robots-Tag:noindex
X-PUBLISHED-TTL:PT1H
BEGIN:VTIMEZONE
TZID:Europe/Madrid
BEGIN:DAYLIGHT
TZOFFSETFROM:+0100
TZOFFSETTO:+0200
TZNAME:CEST
DTSTART:20250330T010000
END:DAYLIGHT
BEGIN:STANDARD
TZOFFSETFROM:+0200
TZOFFSETTO:+0100
TZNAME:CET
DTSTART:20251026T010000
END:STANDARD
BEGIN:DAYLIGHT
TZOFFSETFROM:+0100
TZOFFSETTO:+0200
TZNAME:CEST
DTSTART:20260329T010000
END:DAYLIGHT
BEGIN:STANDARD
TZOFFSETFROM:+0200
TZOFFSETTO:+0100
TZNAME:CET
DTSTART:20261025T010000
END:STANDARD
BEGIN:DAYLIGHT
TZOFFSETFROM:+0100
TZOFFSETTO:+0200
TZNAME:CEST
DTSTART:20270328T010000
END:DAYLIGHT
BEGIN:STANDARD
TZOFFSETFROM:+0200
TZOFFSETTO:+0100
TZNAME:CET
DTSTART:20271031T010000
END:STANDARD
END:VTIMEZONE
BEGIN:VEVENT
DTSTART;VALUE=DATE:20260518
DTEND;VALUE=DATE:20260521
DTSTAMP:20260422T093555
CREATED:20251128T105942Z
LAST-MODIFIED:20260319T084947Z
UID:10001644-1779062400-1779321599@fycma.com
SUMMARY:IAGTO EUROPEAN CONVENTION - IEC2026
DESCRIPTION:La 4.ª Convención Europea anual de IAGTO (IEC) regresa a la ciudad de Málaga y a FYCMA tras un excelente evento en 2024. \nIEC es el evento comercial de turismo de golf más asequible\, productivo y entretenido de Europa y ha atraído a un récord de 900 delegados en 2026. IEC está abierta a operadores turísticos de golf\, proveedores de turismo de golf\, destinos de golf y proveedores de servicios miembros de IAGTO de toda Europa\, África y los Estados del Golfo. Los delegados compradores son miembros de IAGTO plenamente acreditados de mercados emisores de viajes de golf de todo el mundo\, todos ellos vendedores de destinos de golf europeos.  \nLa convención consta de dos días de reuniones\, todas ellas programadas con antelación a petición de los delegados.
URL:https://fycma.com/evento/iagto-european-convention-iec2026/
LOCATION:Fycma – Palacio de Ferias y Congresos de Málaga.\, Avenida Ortega y Gasset\, 201\, Málaga\, Málaga\, 29006\, España
CATEGORIES:Congresos,Ferias,Ferias Profesionales
ATTACH;FMTTYPE=image/jpeg:https://fycma.com/wp-content/uploads/2025/11/IEC-2026-500X500px.jpg
ORGANIZER;CN="IAGTO":MAILTO:info@iagto.com
END:VEVENT
BEGIN:VEVENT
DTSTART;VALUE=DATE:20260622
DTEND;VALUE=DATE:20260624
DTSTAMP:20260422T093555
CREATED:20250923T094311Z
LAST-MODIFIED:20251015T084917Z
UID:10001610-1782086400-1782259199@fycma.com
SUMMARY:CM Málaga 2026
DESCRIPTION:CM MÁLAGA – Culture & Museums International Tech Forum apuesta por impulsar la implantación de soluciones tecnológicas e innovadoras en el ámbito de la cultura para elevarla a una nueva dimensión en la que sea sostenible\, accesible\, y mejore aún más su posición como motor económico y social. \nLa gestión\, promoción y transformación digital de museos y espacios culturales emergentes\, así como su interacción con los destinos culturales inteligentes son los ejes centrales de CM Málaga. \nUn foro inspirador. Desde una visión social de la gestión del turismo cultural\, CM Málaga invita a conectar proyectos\, establecer sinergias\, compartir ideas\, ofrecer servicios\, abordar nuevas tecnologías e inspirarse para proyectar destinos culturales y museos del siglo XXI.
URL:https://fycma.com/evento/cm-malaga-2026/
LOCATION:Fycma – Palacio de Ferias y Congresos de Málaga.\, Avenida Ortega y Gasset\, 201\, Málaga\, Málaga\, 29006\, España
CATEGORIES:Congresos,Ferias
ATTACH;FMTTYPE=image/png:https://fycma.com/wp-content/uploads/2025/09/cm-malaga-2026.png
ORGANIZER;CN="FYCMA":MAILTO:info@fycma.com
END:VEVENT
BEGIN:VEVENT
DTSTART;VALUE=DATE:20260703
DTEND;VALUE=DATE:20260704
DTSTAMP:20260422T093555
CREATED:20260317T121439Z
LAST-MODIFIED:20260318T090222Z
UID:10001720-1783036800-1783123199@fycma.com
SUMMARY:Premios Iris Games
DESCRIPTION:Los Premios Iris Games son el certamen nacional impulsado por la Academia de Televisión y de las Ciencias y las Artes del Audiovisual y el Ayuntamiento de Málaga a través del Polo Nacional de Contenidos Digitales para reconocer la excelencia creativa del videojuego desarrollado en España. En su segunda edición vuelven a distinguir a los estudios que han lanzado videojuegos durante el último año\, premiando la innovación\, el talento y la calidad de la industria nacional. \nDentro de Andalucía Play Fest\, la gala de los Premios Iris Games el 3 de julio se convierte en uno de los momentos centrales del festival\, reuniendo a desarrolladores\, profesionales del sector y representantes de la industria audiovisual.
URL:https://fycma.com/evento/premios-iris-games/
LOCATION:Fycma – Palacio de Ferias y Congresos de Málaga.\, Avenida Ortega y Gasset\, 201\, Málaga\, Málaga\, 29006\, España
CATEGORIES:Entrada o inscripción disponible,Ferias,Otros Eventos
ATTACH;FMTTYPE=image/jpeg:https://fycma.com/wp-content/uploads/2026/03/Iris-Games-500x500-1.jpg
END:VEVENT
BEGIN:VEVENT
DTSTART;VALUE=DATE:20260703
DTEND;VALUE=DATE:20260706
DTSTAMP:20260422T093555
CREATED:20260311T111121Z
LAST-MODIFIED:20260319T085339Z
UID:10001718-1783036800-1783295999@fycma.com
SUMMARY:Andalucía Play Fest
DESCRIPTION:Nace Andalucía Play Fest\, una nueva marca impulsada por el Ayuntamiento de Málaga\, a través del Polo Nacional de Contenidos Digitales\, que integrará bajo un mismo paraguas tres grandes citas del ecosistema del videojuego en la ciudad: Premios Iris Games\, Guadalindie y Retropixel. \nEl encuentro tendrá lugar del 3 al 5 de julio de 2026 en FYCMA (Palacio de Ferias y Congresos de Málaga). El objetivo es reforzar la proyección nacional de Málaga como hub estratégico del videojuego\, generar sinergias entre industria y comunidad y ofrecer una experiencia integral tanto para profesionales del sector como para el público general. \n 
URL:https://fycma.com/evento/andalucia-play-fest/
LOCATION:Fycma – Palacio de Ferias y Congresos de Málaga.\, Avenida Ortega y Gasset\, 201\, Málaga\, Málaga\, 29006\, España
CATEGORIES:Entrada o inscripción disponible,Ferias,Otros Eventos
ATTACH;FMTTYPE=image/jpeg:https://fycma.com/wp-content/uploads/2026/03/APF-500x500-1.jpg
END:VEVENT
BEGIN:VEVENT
DTSTART;VALUE=DATE:20260703
DTEND;VALUE=DATE:20260706
DTSTAMP:20260422T093555
CREATED:20260317T123707Z
LAST-MODIFIED:20260319T102346Z
UID:10001721-1783036800-1783295999@fycma.com
SUMMARY:Guadalindie
DESCRIPTION:Guadalindie es uno de los principales encuentros profesionales dedicados al videojuego indie en España. Impulsado por la asociación MálagaJam\, conecta estudios independientes\, publishers\, inversores y talento emergente en un entorno pensado para generar oportunidades. \nEl evento reúne zona demo\, conferencias\, networking profesional y reuniones de negocio\, convirtiéndose en un punto de encuentro clave para descubrir nuevos proyectos y fortalecer el ecosistema independiente. \nDentro de Andalucía Play Fest\, Guadalindie aporta su dimensión más profesional e internacional\, creando un espacio donde nacen colaboraciones y futuros videojuegos.
URL:https://fycma.com/evento/guadalindie-2/
LOCATION:Fycma – Palacio de Ferias y Congresos de Málaga.\, Avenida Ortega y Gasset\, 201\, Málaga\, Málaga\, 29006\, España
CATEGORIES:Entrada o inscripción disponible,Ferias,Otros Eventos
ATTACH;FMTTYPE=image/jpeg:https://fycma.com/wp-content/uploads/2026/03/Guadalindie.jpg
END:VEVENT
BEGIN:VEVENT
DTSTART;VALUE=DATE:20260703
DTEND;VALUE=DATE:20260706
DTSTAMP:20260422T093555
CREATED:20260317T124952Z
LAST-MODIFIED:20260319T102551Z
UID:10001722-1783036800-1783295999@fycma.com
SUMMARY:Retropixel
DESCRIPTION:Retropixel\, organizado por la Asociación ALTAIR\, es uno de los eventos de referencia en España dedicados a la cultura del videojuego clásico y la preservación tecnológica. \nEl encuentro reúne exposiciones de sistemas históricos\, zonas de juego con consolas y ordenadores clásicos\, conferencias especializadas y actividades para descubrir la historia de un medio que ha marcado generaciones. \nEn Andalucía Play Fest\, Retropixel conecta pasado y futuro del videojuego\, recordando que la innovación del presente se construye también sobre la memoria tecnológica del sector.
URL:https://fycma.com/evento/retropixel/
LOCATION:Fycma – Palacio de Ferias y Congresos de Málaga.\, Avenida Ortega y Gasset\, 201\, Málaga\, Málaga\, 29006\, España
CATEGORIES:Entrada o inscripción disponible,Ferias,Otros Eventos
ATTACH;FMTTYPE=image/jpeg:https://fycma.com/wp-content/uploads/2026/03/Retropixel-500x500-2.jpg
END:VEVENT
BEGIN:VEVENT
DTSTART;VALUE=DATE:20261015
DTEND;VALUE=DATE:20261017
DTSTAMP:20260422T093555
CREATED:20251128T111638Z
LAST-MODIFIED:20260113T084743Z
UID:10001648-1792022400-1792195199@fycma.com
SUMMARY:21º Congreso Jurídico de la Abogacía de Málaga
DESCRIPTION:
URL:https://fycma.com/evento/21o-congreso-juridico-de-la-abogacia-de-malaga/
LOCATION:Fycma – Palacio de Ferias y Congresos de Málaga.\, Avenida Ortega y Gasset\, 201\, Málaga\, Málaga\, 29006\, España
CATEGORIES:Congresos,Ferias,Ferias Profesionales
ATTACH;FMTTYPE=image/jpeg:https://fycma.com/wp-content/uploads/2021/01/Eventos-sin-foto.jpg
END:VEVENT
BEGIN:VEVENT
DTSTART;VALUE=DATE:20261022
DTEND;VALUE=DATE:20261025
DTSTAMP:20260422T093555
CREATED:20251128T114416Z
LAST-MODIFIED:20260123T105637Z
UID:10001650-1792627200-1792886399@fycma.com
SUMMARY:44º Congreso de la Sociedad Española de Senología y Patología Mamaria - SESPM 2026
DESCRIPTION:Encuentro anual de especialistas dedicados a la patología mamaria donde se actualiza conocimientos y plantean nuevos retos enfocados siempre al beneficio de las pacientes con cáncer de mama.
URL:https://fycma.com/evento/44o-congreso-sespm-2026/
LOCATION:Fycma – Palacio de Ferias y Congresos de Málaga.\, Avenida Ortega y Gasset\, 201\, Málaga\, Málaga\, 29006\, España
CATEGORIES:Congresos,Ferias,Ferias Profesionales
ATTACH;FMTTYPE=image/jpeg:https://fycma.com/wp-content/uploads/2025/11/44-sespm-malaga-150.jpg
END:VEVENT
BEGIN:VEVENT
DTSTART;VALUE=DATE:20261103
DTEND;VALUE=DATE:20261106
DTSTAMP:20260422T093555
CREATED:20251128T115139Z
LAST-MODIFIED:20260113T085029Z
UID:10001652-1793664000-1793923199@fycma.com
SUMMARY:EXPO AGRITECH La Feria del Campo 4.0.
DESCRIPTION:Expo Agritech es la mayor feria tecnológica para el sector agrícola que reúne a miles de profesionales agrícolas en torno a las últimas innovaciones en maquinaria\, equipos\, sistemas de riego\, biotecnología y agricultura de precisión\, junto al Congreso Agritech 4.0.
URL:https://fycma.com/evento/expo-agritech/
LOCATION:Fycma – Palacio de Ferias y Congresos de Málaga.\, Avenida Ortega y Gasset\, 201\, Málaga\, Málaga\, 29006\, España
CATEGORIES:Congresos,Entrada o inscripción disponible,Ferias,Ferias Profesionales
ATTACH;FMTTYPE=image/jpeg:https://fycma.com/wp-content/uploads/2021/01/Eventos-sin-foto.jpg
END:VEVENT
END:VCALENDAR