BEGIN:VCALENDAR
VERSION:2.0
PRODID:-//FYCMA - ECPv6.15.20//NONSGML v1.0//EN
CALSCALE:GREGORIAN
METHOD:PUBLISH
X-WR-CALNAME:FYCMA
X-ORIGINAL-URL:https://fycma.com/?lang=en
X-WR-CALDESC:Events for FYCMA
REFRESH-INTERVAL;VALUE=DURATION:PT1H
X-Robots-Tag:noindex
X-PUBLISHED-TTL:PT1H
BEGIN:VTIMEZONE
TZID:Europe/Madrid
BEGIN:DAYLIGHT
TZOFFSETFROM:+0100
TZOFFSETTO:+0200
TZNAME:CEST
DTSTART:20250330T010000
END:DAYLIGHT
BEGIN:STANDARD
TZOFFSETFROM:+0200
TZOFFSETTO:+0100
TZNAME:CET
DTSTART:20251026T010000
END:STANDARD
BEGIN:DAYLIGHT
TZOFFSETFROM:+0100
TZOFFSETTO:+0200
TZNAME:CEST
DTSTART:20260329T010000
END:DAYLIGHT
BEGIN:STANDARD
TZOFFSETFROM:+0200
TZOFFSETTO:+0100
TZNAME:CET
DTSTART:20261025T010000
END:STANDARD
BEGIN:DAYLIGHT
TZOFFSETFROM:+0100
TZOFFSETTO:+0200
TZNAME:CEST
DTSTART:20270328T010000
END:DAYLIGHT
BEGIN:STANDARD
TZOFFSETFROM:+0200
TZOFFSETTO:+0100
TZNAME:CET
DTSTART:20271031T010000
END:STANDARD
END:VTIMEZONE
BEGIN:VEVENT
DTSTART;VALUE=DATE:20260504
DTEND;VALUE=DATE:20260507
DTSTAMP:20260422T130845
CREATED:20260122T112044Z
LAST-MODIFIED:20260210T151259Z
UID:10001667-1777852800-1778111999@fycma.com
SUMMARY:27th EFORT Annual Congress
DESCRIPTION:The 27th EFORT – European Federation of National Associations of Orthopaedics & Traumatology Annual Congress will be held in Málaga\, Spain\, from Monday 04 to Wednesday 06 May 2026 with as main theme: “Innovations and transdisciplinarity in the orthopaedic future”. \nEFORT is the biggest European platform to share orthopaedic and trauma knowledge and is the best opportunity to identify new data related to any specialty\, gather useful tips & tricks to enhance your daily medical achievements and expand your professional network.
URL:https://fycma.com/evento/efort/?lang=en
LOCATION:Fycma – Palacio de Ferias y Congresos de Málaga.\, Avenida Ortega y Gasset\, 201\, Málaga\, Málaga\, 29006\, España
CATEGORIES:Congress,Entry or registration available
ATTACH;FMTTYPE=image/jpeg:https://fycma.com/wp-content/uploads/2026/01/Efort-2026-500.jpg
ORGANIZER;CN="EFORT":MAILTO:congress@efort.org
END:VEVENT
BEGIN:VEVENT
DTSTART;VALUE=DATE:20260514
DTEND;VALUE=DATE:20260517
DTSTAMP:20260422T130845
CREATED:20251118T125630Z
LAST-MODIFIED:20251118T130243Z
UID:10001637-1778716800-1778975999@fycma.com
SUMMARY:48th SENEP Annual Meeting
DESCRIPTION:From May 14 to 16\, 2026\, the 48th Annual Meeting of the Spanish Society of Pediatric Neurology (SENEP) will take place in Malaga. This conference will highlight advances in the diagnosis and treatment of pediatric neurological disorders\, with a special focus on the participation of young neuropediatricians.
URL:https://fycma.com/evento/48th-senep-annual-meeting-senep-2026/?lang=en
LOCATION:Fycma – Palacio de Ferias y Congresos de Málaga.\, Avenida Ortega y Gasset\, 201\, Málaga\, Málaga\, 29006\, España
CATEGORIES:Congress,Entry or registration available
ATTACH;FMTTYPE=image/png:https://fycma.com/wp-content/uploads/2025/11/senep-500x500-2.png
END:VEVENT
BEGIN:VEVENT
DTSTART;VALUE=DATE:20260518
DTEND;VALUE=DATE:20260521
DTSTAMP:20260422T130845
CREATED:20251128T105942Z
LAST-MODIFIED:20260319T085023Z
UID:10001645-1779062400-1779321599@fycma.com
SUMMARY:IAGTO EUROPEAN CONVENTION - IEC2026
DESCRIPTION:The 4th annual IAGTO European Convention (IEC) returns to Malaga City and to FYCMA following an excellent event back in 2024. \nIEC is the most affordable\, productive and enjoyable golf tourism trade event in Europe and has attracted a record 900 delegates in 2026. IEC is open to IAGTO member golf tour operators\, golf tourism suppliers\, golf destinations and service providers from across Europe\, Africa and the Gulf States. Buyer delegates are fully accredited IAGTO members from outbound golf travel markets worldwide\, all selling European golf destinations. \nThe convention comprises two days of meetings\, all of which are pre-scheduled at the delegates’ request.
URL:https://fycma.com/evento/iagto-european-convention-iec2026/?lang=en
LOCATION:Fycma – Palacio de Ferias y Congresos de Málaga.\, Avenida Ortega y Gasset\, 201\, Málaga\, Málaga\, 29006\, España
CATEGORIES:Congress,Fairs,Professional fairs
ATTACH;FMTTYPE=image/jpeg:https://fycma.com/wp-content/uploads/2025/11/IEC-2026-500X500px.jpg
ORGANIZER;CN="IAGTO":MAILTO:info@iagto.com
END:VEVENT
BEGIN:VEVENT
DTSTART;VALUE=DATE:20260527
DTEND;VALUE=DATE:20260530
DTSTAMP:20260422T130845
CREATED:20260224T123308Z
LAST-MODIFIED:20260319T085157Z
UID:10001717-1779840000-1780099199@fycma.com
SUMMARY:35th National Congress of Nursing Care Technicians.
DESCRIPTION:Under the slogan “Technician intervention in critical care and emergencies”\, this scientific debate forum highlights the important role that nursing technicians play in these work teams. In both services\, the role of these professionals focuses on basic care and direct support for patients and the healthcare team.
URL:https://fycma.com/evento/35th-national-congress-of-nursing-care-technicians/?lang=en
LOCATION:Fycma – Palacio de Ferias y Congresos de Málaga.\, Avenida Ortega y Gasset\, 201\, Málaga\, Málaga\, 29006\, España
CATEGORIES:Congress,Other events
ATTACH;FMTTYPE=image/jpeg:https://fycma.com/wp-content/uploads/2026/02/Cartel-FAE-500x500-2.jpg
ORGANIZER;CN="Fundaci%C3%B3n FAE":MAILTO:congresofae@fundacionfae.org
END:VEVENT
BEGIN:VEVENT
DTSTART;VALUE=DATE:20260602
DTEND;VALUE=DATE:20260606
DTSTAMP:20260422T130845
CREATED:20250903T113123Z
LAST-MODIFIED:20251203T101854Z
UID:10001583-1780358400-1780703999@fycma.com
SUMMARY:EuCNC & 6G Summit 2026
DESCRIPTION:The 2026 EuCNC & 6G Summit builds on putting together two successful conferences in the area of telecommunications: EuCNC (European Conference on Networks and Communications)\, supported by the European Commission\, and the 6G Summit\, originated from the 6G Flagship programme in Finland\, one of the very first in its area. The conference is sponsored by the IEEE Communications Society (ComSoc)\, the European Association for Signal Processing (EURASIP) and the European Association on Antennas and Propagation (EurAAP)\, and focuses on all aspects of telecommunications ranging from 5G deployment and mobile IoT to 6G exploration and future communications systems and networks\, including experimentation and testbeds\, and applications and services. It brings together cutting-edge research and world-renown industries and businesses\, globally attracting in the last years more than 1000 delegates from more than 40 countries all over the world\, to present and discuss the latest results\, and an exhibition with more than 50 exhibitors\, for demonstrating the technology developed in the area\, namely within research projects from EU R&I programmes. \nThe conference has a not-for-profit organisation\, hence\, registration fees are as low as possible and all surplus will be made available in grants.  Best Papers and Booth Awards will be granted. Accepted and presented papers for regular sessions will be published in the Conference Proceedings and submitted to IEEE Xplore and other Abstracting and Indexing (A&I) databases.
URL:https://fycma.com/evento/eucnc-6g-summit-2026/?lang=en
LOCATION:Fycma – Palacio de Ferias y Congresos de Málaga.\, Avenida Ortega y Gasset\, 201\, Málaga\, Málaga\, 29006\, España
CATEGORIES:Congress,Professional fairs
ATTACH;FMTTYPE=image/png:https://fycma.com/wp-content/uploads/2025/09/eucnc-500x500-1.png
ORGANIZER;CN="Universidad de M%C3%A1laga (UMA)":MAILTO:loscertales@uma.es
END:VEVENT
BEGIN:VEVENT
DTSTART;VALUE=DATE:20260619
DTEND;VALUE=DATE:20260620
DTSTAMP:20260422T130845
CREATED:20251202T124100Z
LAST-MODIFIED:20251203T101731Z
UID:10001655-1781827200-1781913599@fycma.com
SUMMARY:14th eCongress Malaga
DESCRIPTION:eCongress Málaga is a benchmark for professionals in e-commerce\, social media\, and digital marketing. The success of the 13 editions already held\, which have featured more than 220 speakers and more than 7\,300 attendees\, has established it as the leading event in southern Europe in its sector. The 14th annual event is a gathering for all marketing enthusiasts who want to learn about the latest trends in e-commerce and the most effective marketing strategies\, AI\, SEO secrets\, and a wide variety of conferences led by leading experts. The highlight of the 14th edition of eCongress Málaga is its conferences\, which are held in the Auditorium of the Málaga Trade Fair and Congress Center. In addition\, the event offers free training workshops for attendees\, an exhibition area\, networking opportunities\, and many more surprises.
URL:https://fycma.com/evento/14a-edicion-econgress-malaga/?lang=en
LOCATION:Fycma – Palacio de Ferias y Congresos de Málaga.\, Avenida Ortega y Gasset\, 201\, Málaga\, Málaga\, 29006\, España
CATEGORIES:Congress,Entry or registration available
ATTACH;FMTTYPE=image/png:https://fycma.com/wp-content/uploads/2025/12/econgress-500x500-1.png
ORGANIZER;CN="eCongress":MAILTO:info@econgressmalaga.es
END:VEVENT
BEGIN:VEVENT
DTSTART;VALUE=DATE:20260622
DTEND;VALUE=DATE:20260624
DTSTAMP:20260422T130845
CREATED:20250923T094311Z
LAST-MODIFIED:20251015T085335Z
UID:10001611-1782086400-1782259199@fycma.com
SUMMARY:CM Málaga 2026
DESCRIPTION:CM MÁLAGA – Culture & Museums International Tech Forum is committed to promoting the implementation of technological and innovative solutions in the field of culture to raise it to a new dimension in which it is sustainable\, accessible\, and further improve its position as an economic and social engine. \nThe management\, promotion and digital transformation of museums and emerging cultural spaces\, as well as their interaction with smart cultural destinations are the central axes of CM Malaga. \nAn inspiring forum. From a social vision of cultural tourism management\, CM Malaga invites to connect projects\, establish synergies\, share ideas\, offer services\, address new technologies and get inspired to project cultural destinations and museums of the 21st century.
URL:https://fycma.com/evento/cm-malaga-2026/?lang=en
LOCATION:Fycma – Palacio de Ferias y Congresos de Málaga.\, Avenida Ortega y Gasset\, 201\, Málaga\, Málaga\, 29006\, España
CATEGORIES:Congress,Fairs
ATTACH;FMTTYPE=image/png:https://fycma.com/wp-content/uploads/2025/09/cm-malaga-2026.png
ORGANIZER;CN="FYCMA":MAILTO:info@fycma.com
END:VEVENT
BEGIN:VEVENT
DTSTART;VALUE=DATE:20260920
DTEND;VALUE=DATE:20260925
DTSTAMP:20260422T130845
CREATED:20250909T080721Z
LAST-MODIFIED:20251027T114517Z
UID:10001585-1789862400-1790294399@fycma.com
SUMMARY:ECOC2026
DESCRIPTION:ECOC is Europe’s leading conference and exhibition on optical communications and photonics\, showcasing the latest innovations in fibre optics\, networks and related technologies. It brings together experts\, researchers and key companies shaping the future of telecommunications.
URL:https://fycma.com/evento/ecoc2026/?lang=en
LOCATION:Fycma – Palacio de Ferias y Congresos de Málaga.\, Avenida Ortega y Gasset\, 201\, Málaga\, Málaga\, 29006\, España
CATEGORIES:Congress,Professional fairs
ATTACH;FMTTYPE=image/png:https://fycma.com/wp-content/uploads/2025/09/CARTEL-500X500.png
END:VEVENT
BEGIN:VEVENT
DTSTART;VALUE=DATE:20260924
DTEND;VALUE=DATE:20260926
DTSTAMP:20260422T130845
CREATED:20260210T113406Z
LAST-MODIFIED:20260210T114321Z
UID:10001688-1790208000-1790380799@fycma.com
SUMMARY:Global Photonics Economic Forum - GPEF2026
DESCRIPTION:The third edition of the Global Photonics Economic Forum will take place in Málaga\, Spain\, on 24–25 September 2026. \nAs photonics continues to drive global infrastructure and technological innovation\, the forum has established itself as a key platform for industry leaders\, policymakers\, and investors shaping the future of optics and photonics.
URL:https://fycma.com/evento/foro-economico-global-de-fotonica-gpef2026/?lang=en
LOCATION:Fycma – Palacio de Ferias y Congresos de Málaga.\, Avenida Ortega y Gasset\, 201\, Málaga\, Málaga\, 29006\, España
CATEGORIES:Congress,Entry or registration available
ATTACH;FMTTYPE=image/jpeg:https://fycma.com/wp-content/uploads/2026/02/Global-Photonics-Economic-Forum-500.jpg
ORGANIZER;CN="Optica":MAILTO:cpanos-gomez@optica.org
END:VEVENT
BEGIN:VEVENT
DTSTART;VALUE=DATE:20261015
DTEND;VALUE=DATE:20261017
DTSTAMP:20260422T130845
CREATED:20251128T111638Z
LAST-MODIFIED:20251128T111757Z
UID:10001649-1792022400-1792195199@fycma.com
SUMMARY:21st Legal Congress of the Malaga Bar Association
DESCRIPTION:
URL:https://fycma.com/evento/21o-congreso-juridico-de-la-abogacia-de-malaga/?lang=en
LOCATION:Fycma – Palacio de Ferias y Congresos de Málaga.\, Avenida Ortega y Gasset\, 201\, Málaga\, Málaga\, 29006\, España
CATEGORIES:Congress,Fairs,Professional fairs
ATTACH;FMTTYPE=image/jpeg:https://fycma.com/wp-content/uploads/2021/01/Eventos-sin-foto.jpg
END:VEVENT
BEGIN:VEVENT
DTSTART;VALUE=DATE:20261022
DTEND;VALUE=DATE:20261025
DTSTAMP:20260422T130845
CREATED:20251128T114416Z
LAST-MODIFIED:20260123T105950Z
UID:10001651-1792627200-1792886399@fycma.com
SUMMARY:44th SESPM Congress 2026
DESCRIPTION:Annual meeting of specialists dedicated to breast pathology\, where knowledge is updated and new challenges are proposed\, always focused on benefiting breast cancer patients.
URL:https://fycma.com/evento/44o-congreso-sespm-2026/?lang=en
LOCATION:Fycma – Palacio de Ferias y Congresos de Málaga.\, Avenida Ortega y Gasset\, 201\, Málaga\, Málaga\, 29006\, España
CATEGORIES:Congress,Fairs,Professional fairs
ATTACH;FMTTYPE=image/jpeg:https://fycma.com/wp-content/uploads/2025/11/44-sespm-malaga-150.jpg
END:VEVENT
BEGIN:VEVENT
DTSTART;VALUE=DATE:20261103
DTEND;VALUE=DATE:20261106
DTSTAMP:20260422T130845
CREATED:20251128T115201Z
LAST-MODIFIED:20251203T111433Z
UID:10001653-1793664000-1793923199@fycma.com
SUMMARY:EXPO AGRITECH
DESCRIPTION:Expo Agritech is the largest technology fair for the agricultural sector\, bringing together thousands of agricultural professionals around the latest innovations in machinery\, equipment\, irrigation systems\, biotechnology\, and precision agriculture\, alongside the Agritech 4.0 Congress. 
URL:https://fycma.com/evento/expo-agritech/?lang=en
LOCATION:Fycma – Palacio de Ferias y Congresos de Málaga.\, Avenida Ortega y Gasset\, 201\, Málaga\, Málaga\, 29006\, España
CATEGORIES:Congress,Entry or registration available,Fairs,Professional fairs
ATTACH;FMTTYPE=image/jpeg:https://fycma.com/wp-content/uploads/2021/01/Eventos-sin-foto.jpg
END:VEVENT
BEGIN:VEVENT
DTSTART;VALUE=DATE:20261124
DTEND;VALUE=DATE:20261127
DTSTAMP:20260422T130845
CREATED:20260113T083558Z
LAST-MODIFIED:20260408T082919Z
UID:10001663-1795478400-1795737599@fycma.com
SUMMARY:TALENT LAND ESPAÑA 2026
DESCRIPTION:The third edition of Talent Land Spain. ‘THE EVENT WHERE YOU CAN ACCELERATE YOUR PROFESSIONAL DEVELOPMENT SURROUNDED BY TALENT.’ A statement that reflects who we are: a space where opportunities for growth\, learning and connection happen simultaneously. It’s not just about technology\, it’s about people. Talent driving talent. Designed to spark your curiosity\, challenge you and help you grow professionally and personally. For three days\, Malaga will become the meeting point for thousands of attendees\, national and international speakers\, start-ups\, universities\, institutions and brands that drive innovation. Conferences\, workshops\, competitions and themed areas are integrated into an experience designed to inspire and connect professional development. \nFrom 8 to 10 July\, you can experience the third edition of Talent Land Spain 2026\, where we bring together brilliant\, creative and disruptive minds to explore new frontiers in technology\, science\, entrepreneurship\, creativity and innovation. The Malaga Trade Fair and Congress Centre (FYCMA) will be the perfect setting to build the future alongside other passionate people who\, like you\, are changing the world.
URL:https://fycma.com/evento/talent-land-espana-2026/?lang=en
LOCATION:Fycma – Palacio de Ferias y Congresos de Málaga.\, Avenida Ortega y Gasset\, 201\, Málaga\, Málaga\, 29006\, España
CATEGORIES:Congress
ATTACH;FMTTYPE=image/png:https://fycma.com/wp-content/uploads/2026/01/500x500-Talent-Land.png
ORGANIZER;CN="Talent Network":MAILTO:info@talent-network.org
END:VEVENT
BEGIN:VEVENT
DTSTART;VALUE=DATE:20261203
DTEND;VALUE=DATE:20261204
DTSTAMP:20260422T130845
CREATED:20260212T165329Z
LAST-MODIFIED:20260212T165928Z
UID:10001701-1796256000-1796342399@fycma.com
SUMMARY:Andalucía Management 2026
DESCRIPTION:Andalucía Management has established itself as the benchmark for the Andalusian business community. This event is more than just a day of learning; it is a gathering designed to encourage debate on the current challenges facing businesses. \nOne of the pillars of Andalucía Management is the opportunity to expand your network of contacts in an exclusive and friendly environment. This event is aimed at and designed for entrepreneurs\, executives and professionals seeking inspiration\, learning and high-level connections.
URL:https://fycma.com/evento/andalucia-management-2026/?lang=en
LOCATION:Fycma – Palacio de Ferias y Congresos de Málaga.\, Avenida Ortega y Gasset\, 201\, Málaga\, Málaga\, 29006\, España
CATEGORIES:Congress
ATTACH;FMTTYPE=image/png:https://fycma.com/wp-content/uploads/2026/02/andalucia-management-2026-500.png
ORGANIZER;CN="Management Activo":MAILTO:comunicacion@managementactivo.com
END:VEVENT
END:VCALENDAR