BEGIN:VCALENDAR
VERSION:2.0
PRODID:-//FYCMA - ECPv6.15.20//NONSGML v1.0//EN
CALSCALE:GREGORIAN
METHOD:PUBLISH
X-ORIGINAL-URL:https://fycma.com
X-WR-CALDESC:Eventos para FYCMA
REFRESH-INTERVAL;VALUE=DURATION:PT1H
X-Robots-Tag:noindex
X-PUBLISHED-TTL:PT1H
BEGIN:VTIMEZONE
TZID:Europe/Madrid
BEGIN:DAYLIGHT
TZOFFSETFROM:+0100
TZOFFSETTO:+0200
TZNAME:CEST
DTSTART:20250330T010000
END:DAYLIGHT
BEGIN:STANDARD
TZOFFSETFROM:+0200
TZOFFSETTO:+0100
TZNAME:CET
DTSTART:20251026T010000
END:STANDARD
BEGIN:DAYLIGHT
TZOFFSETFROM:+0100
TZOFFSETTO:+0200
TZNAME:CEST
DTSTART:20260329T010000
END:DAYLIGHT
BEGIN:STANDARD
TZOFFSETFROM:+0200
TZOFFSETTO:+0100
TZNAME:CET
DTSTART:20261025T010000
END:STANDARD
BEGIN:DAYLIGHT
TZOFFSETFROM:+0100
TZOFFSETTO:+0200
TZNAME:CEST
DTSTART:20270328T010000
END:DAYLIGHT
BEGIN:STANDARD
TZOFFSETFROM:+0200
TZOFFSETTO:+0100
TZNAME:CET
DTSTART:20271031T010000
END:STANDARD
END:VTIMEZONE
BEGIN:VEVENT
DTSTART;VALUE=DATE:20260310
DTEND;VALUE=DATE:20260312
DTSTAMP:20260423T184746
CREATED:20251128T103555Z
LAST-MODIFIED:20260209T092740Z
UID:10001640-1773100800-1773273599@fycma.com
SUMMARY:eMobility Expo World Congress - MOW
DESCRIPTION:eMobility Expo World Congress – MOW es el principal evento internacional de referencia para la movilidad sostenible\, autónoma\, conectada\, segura y electrificada. Combina una gran zona expositiva donde +200 empresas líderes del sector presentan las últimas innovaciones\, soluciones y servicios para todos los ámbitos de la movilidad\, con el mayor Congreso de referencia que reúne +375 ponentes internacionales en 6 auditorios simultáneos a través de 12 foros verticales para cada segmento de la industria y 4 agendas para cada perfil profesional. \nEn su edición 2026\, que se celebrará del 10 al 11 de marzo en Málaga (FYCMA)\, el evento congregará a más de 6.000 profesionales\, empresas y representantes institucionales para analizar cómo la nueva era de la movilidad está transformando la industria\, sus modelos de negocio y los retos a los que se enfrenta el sector.
URL:https://fycma.com/evento/e-mobility/
LOCATION:Fycma – Palacio de Ferias y Congresos de Málaga.\, Avenida Ortega y Gasset\, 201\, Málaga\, Málaga\, 29006\, España
CATEGORIES:Congresos,Entrada o inscripción disponible,Ferias
ATTACH;FMTTYPE=image/png:https://fycma.com/wp-content/uploads/2025/11/EME2026_500x.png
END:VEVENT
BEGIN:VEVENT
DTSTART;TZID=Europe/Madrid:20260312T090000
DTEND;TZID=Europe/Madrid:20260312T150000
DTSTAMP:20260423T184746
CREATED:20251003T112100Z
LAST-MODIFIED:20260130T124816Z
UID:10001614-1773306000-1773327600@fycma.com
SUMMARY:Feria del empleo IMFE 2026 - Ayuntamiento de Málaga
DESCRIPTION:El IMFE\, Instituto Municipal para la Formación y el Empleo\, organiza una nueva edición de FERIA DEL EMPLEO IMFE 2026 – AYUNTAMIENTO DE MÁLAGA. \nEsta edición de 2026 se celebrará el próximo 12 de marzo\, de 9 a 15 horas en FYCMA\, el Palacio de Feria y Congresos de Málaga\, con el objetivo de ser punto de encuentro entre candidatos/as y empresas que ofrecen nuevas oportunidades de trabajo en nuestra ciudad. \nLa FERIA DEL EMPLEO contará este año con: \n· + 80 stands\, en los que los asistentes podrán contactar directamente con las empresas. \n· Zona de entrevistas de trabajo concertadas. \n· Conferencias\, Talleres y Actividades. \n¡No olvides tu móvil! \nCuando visites los stands podrás entregar tu CV fácilmente a través de la nueva web y app de malagaempleo.com.
URL:https://fycma.com/evento/feria-del-empleo-imfe-2026-ayuntamiento-de-malaga/
LOCATION:Fycma – Palacio de Ferias y Congresos de Málaga.\, Avenida Ortega y Gasset\, 201\, Málaga\, Málaga\, 29006\, España
CATEGORIES:Ferias,Ferias Público General
ATTACH;FMTTYPE=image/png:https://fycma.com/wp-content/uploads/2025/10/IMFE-Feria-del-Empleo-2026-1-500.png
ORGANIZER;CN="IMFE%2C Instituto Municipal para la Formaci%C3%B3n y el Empleo%2C Ayuntamiento de M%C3%A1laga":MAILTO:fmanzanares@malaga.eu
END:VEVENT
END:VCALENDAR