BEGIN:VCALENDAR
VERSION:2.0
PRODID:-//FYCMA - ECPv6.15.20//NONSGML v1.0//EN
CALSCALE:GREGORIAN
METHOD:PUBLISH
X-ORIGINAL-URL:https://fycma.com
X-WR-CALDESC:Eventos para FYCMA
REFRESH-INTERVAL;VALUE=DURATION:PT1H
X-Robots-Tag:noindex
X-PUBLISHED-TTL:PT1H
BEGIN:VTIMEZONE
TZID:Europe/Madrid
BEGIN:DAYLIGHT
TZOFFSETFROM:+0100
TZOFFSETTO:+0200
TZNAME:CEST
DTSTART:20250330T010000
END:DAYLIGHT
BEGIN:STANDARD
TZOFFSETFROM:+0200
TZOFFSETTO:+0100
TZNAME:CET
DTSTART:20251026T010000
END:STANDARD
BEGIN:DAYLIGHT
TZOFFSETFROM:+0100
TZOFFSETTO:+0200
TZNAME:CEST
DTSTART:20260329T010000
END:DAYLIGHT
BEGIN:STANDARD
TZOFFSETFROM:+0200
TZOFFSETTO:+0100
TZNAME:CET
DTSTART:20261025T010000
END:STANDARD
BEGIN:DAYLIGHT
TZOFFSETFROM:+0100
TZOFFSETTO:+0200
TZNAME:CEST
DTSTART:20270328T010000
END:DAYLIGHT
BEGIN:STANDARD
TZOFFSETFROM:+0200
TZOFFSETTO:+0100
TZNAME:CET
DTSTART:20271031T010000
END:STANDARD
END:VTIMEZONE
BEGIN:VEVENT
DTSTART;VALUE=DATE:20260518
DTEND;VALUE=DATE:20260521
DTSTAMP:20260423T184920
CREATED:20251128T105942Z
LAST-MODIFIED:20260319T084947Z
UID:10001644-1779062400-1779321599@fycma.com
SUMMARY:IAGTO EUROPEAN CONVENTION - IEC2026
DESCRIPTION:La 4.ª Convención Europea anual de IAGTO (IEC) regresa a la ciudad de Málaga y a FYCMA tras un excelente evento en 2024. \nIEC es el evento comercial de turismo de golf más asequible\, productivo y entretenido de Europa y ha atraído a un récord de 900 delegados en 2026. IEC está abierta a operadores turísticos de golf\, proveedores de turismo de golf\, destinos de golf y proveedores de servicios miembros de IAGTO de toda Europa\, África y los Estados del Golfo. Los delegados compradores son miembros de IAGTO plenamente acreditados de mercados emisores de viajes de golf de todo el mundo\, todos ellos vendedores de destinos de golf europeos.  \nLa convención consta de dos días de reuniones\, todas ellas programadas con antelación a petición de los delegados.
URL:https://fycma.com/evento/iagto-european-convention-iec2026/
LOCATION:Fycma – Palacio de Ferias y Congresos de Málaga.\, Avenida Ortega y Gasset\, 201\, Málaga\, Málaga\, 29006\, España
CATEGORIES:Congresos,Ferias,Ferias Profesionales
ATTACH;FMTTYPE=image/jpeg:https://fycma.com/wp-content/uploads/2025/11/IEC-2026-500X500px.jpg
ORGANIZER;CN="IAGTO":MAILTO:info@iagto.com
END:VEVENT
END:VCALENDAR