BEGIN:VCALENDAR
VERSION:2.0
PRODID:-//FYCMA - ECPv6.15.20//NONSGML v1.0//EN
CALSCALE:GREGORIAN
METHOD:PUBLISH
X-WR-CALNAME:FYCMA
X-ORIGINAL-URL:https://fycma.com/?lang=en
X-WR-CALDESC:Events for FYCMA
REFRESH-INTERVAL;VALUE=DURATION:PT1H
X-Robots-Tag:noindex
X-PUBLISHED-TTL:PT1H
BEGIN:VTIMEZONE
TZID:Europe/Madrid
BEGIN:DAYLIGHT
TZOFFSETFROM:+0100
TZOFFSETTO:+0200
TZNAME:CEST
DTSTART:20210328T010000
END:DAYLIGHT
BEGIN:STANDARD
TZOFFSETFROM:+0200
TZOFFSETTO:+0100
TZNAME:CET
DTSTART:20211031T010000
END:STANDARD
BEGIN:DAYLIGHT
TZOFFSETFROM:+0100
TZOFFSETTO:+0200
TZNAME:CEST
DTSTART:20220327T010000
END:DAYLIGHT
BEGIN:STANDARD
TZOFFSETFROM:+0200
TZOFFSETTO:+0100
TZNAME:CET
DTSTART:20221030T010000
END:STANDARD
BEGIN:DAYLIGHT
TZOFFSETFROM:+0100
TZOFFSETTO:+0200
TZNAME:CEST
DTSTART:20230326T010000
END:DAYLIGHT
BEGIN:STANDARD
TZOFFSETFROM:+0200
TZOFFSETTO:+0100
TZNAME:CET
DTSTART:20231029T010000
END:STANDARD
END:VTIMEZONE
BEGIN:VEVENT
DTSTART;VALUE=DATE:20220228
DTEND;VALUE=DATE:20220302
DTSTAMP:20260422T105615
CREATED:20220222T131237Z
LAST-MODIFIED:20220223T085155Z
UID:10000897-1646006400-1646179199@fycma.com
SUMMARY:IV Andalusian Transport Conference. XIX APETAM Technical Conference 2022
DESCRIPTION:IV Andalusian Transport Conference. XIX APETAM Technical Conference\nThe Andalusian Transport Conference organised by Apetam has become a benchmark in the sector and the second most important exhibition in Spain. With more than 30 leading companies exhibiting their products and more than 800 professional visitors\, the Andalusian Transport Conference organised by Apetam is an extensive catalogue that caters for the needs of road passenger transport. The conference consists of two days. One day will be dedicated to presentations related to the sector as well as giving time for the exhibition. The remaining day will be devoted exclusively to the exhibition of coaches and services.
URL:https://fycma.com/evento/iv-jornadas-andaluzas-transporte-xix-jornadas-tecnicas-apetam-2022/?lang=en
LOCATION:Fycma – Palacio de Ferias y Congresos de Málaga.\, Avenida Ortega y Gasset\, 201\, Málaga\, Málaga\, 29006\, España
CATEGORIES:Entry or registration available,Meetings
ATTACH;FMTTYPE=image/jpeg:https://fycma.com/wp-content/uploads/2021/01/Eventos-sin-foto.jpg
ORGANIZER;CN="APETAM - Asociaci%C3%B3n del Transporte de M%C3%A1laga":MAILTO:info@apetam.org
END:VEVENT
BEGIN:VEVENT
DTSTART;VALUE=DATE:20220305
DTEND;VALUE=DATE:20220307
DTSTAMP:20260422T105615
CREATED:20211222T112051Z
LAST-MODIFIED:20211222T112431Z
UID:10001097-1646438400-1646611199@fycma.com
SUMMARY:Freakcon 2022
DESCRIPTION:International Manga\, Comic\, TV Series and Videogame Convention\nFreakCon is an international event dedicated to celebrating popular culture in all its extensions: TV series\, manga\, comics\, animation\, film\, fantasy literature\, role-playing\, board games\, science fiction and video games.
URL:https://fycma.com/evento/freakcon-2022/?lang=en
LOCATION:Fycma – Palacio de Ferias y Congresos de Málaga.\, Avenida Ortega y Gasset\, 201\, Málaga\, Málaga\, 29006\, España
CATEGORIES:Public Fair
ATTACH;FMTTYPE=image/jpeg:https://fycma.com/wp-content/uploads/2021/12/Imagen-evento-Freakcon.jpg
ORGANIZER;CN="Kaiju Entertaiment":MAILTO:kaiju@kaiju.es
END:VEVENT
BEGIN:VEVENT
DTSTART;VALUE=DATE:20220311
DTEND;VALUE=DATE:20220312
DTSTAMP:20260422T105615
CREATED:20220222T145549Z
LAST-MODIFIED:20220222T150007Z
UID:10000901-1646956800-1647043199@fycma.com
SUMMARY:Spain Convention Bureau's association day 2022
DESCRIPTION:Spain Convention Bureau’s association day\nMeeting between the heads of national associations or societies and representatives of Convention Bureaus from different destinations to showcase their conference offer.
URL:https://fycma.com/evento/jornada-asociativa-del-spain-convention-bureau-2022/?lang=en
LOCATION:Fycma – Palacio de Ferias y Congresos de Málaga.\, Avenida Ortega y Gasset\, 201\, Málaga\, Málaga\, 29006\, España
CATEGORIES:Meetings
ATTACH;FMTTYPE=image/jpeg:https://fycma.com/wp-content/uploads/2021/01/Eventos-sin-foto.jpg
ORGANIZER;CN="Spain Convention Bureau":MAILTO:scb@femp.es
END:VEVENT
BEGIN:VEVENT
DTSTART;VALUE=DATE:20220323
DTEND;VALUE=DATE:20220326
DTSTAMP:20260422T105615
CREATED:20220224T121850Z
LAST-MODIFIED:20220309T130521Z
UID:10000904-1647993600-1648252799@fycma.com
SUMMARY:1st Andalusian Cybersecurity Conference 2022
DESCRIPTION:First edition of the Andalusian Cybersecurity Congress. A meeting place for public administration\, professionals and companies in the technology sector to share knowledge and experience in digital security. \nLeading national and international professionals will meet in Malaga for three days to discuss trends and challenges of cybersecurity in the current and future context\, with the new Andalusian Cybersecurity Strategy 2022-2025 as the main focus. \nRound tables\, presentations\, a large exhibition area of the main companies in the sector\, and much more. A unique meeting point in Andalusia that will turn Malaga into the epicentre of cybersecurity during these days.
URL:https://fycma.com/evento/i-congreso-de-ciberseguridad-de-andalucia-2022/?lang=en
LOCATION:Fycma – Palacio de Ferias y Congresos de Málaga.\, Avenida Ortega y Gasset\, 201\, Málaga\, Málaga\, 29006\, España
CATEGORIES:Congress,Entry or registration available
ATTACH;FMTTYPE=image/jpeg:https://fycma.com/wp-content/uploads/2022/03/congreso-de-ciberseguridad.jpg
ORGANIZER;CN="Agencia Digital de Andaluc%C3%ADa":MAILTO:congresociberseguridad@juntadeandalucia.es
END:VEVENT
BEGIN:VEVENT
DTSTART;VALUE=DATE:20220329
DTEND;VALUE=DATE:20220330
DTSTAMP:20260422T105615
CREATED:20220316T083438Z
LAST-MODIFIED:20220316T083950Z
UID:10001115-1648512000-1648598399@fycma.com
SUMMARY:Emplea Turismo Day 2022
DESCRIPTION:The event\, called I Day Emplea Turismo Málaga Costa del Sol\, will be held at the Trade Fairs and Congress Center of Málaga from 9 am to 6 pm and will allow hotel and catering companies to contact in situ with active or unemployed professionals\, students or graduates of schools of hospitality\, hotel and catering vocational training and tourism. In this way\, a multitude of contacts\, interviews\, CVs and even recruitment\, so necessary for the sector and for the province’s economy\, can take place.
URL:https://fycma.com/evento/jornada-emplea-turismo-2022/?lang=en
LOCATION:Fycma – Palacio de Ferias y Congresos de Málaga.\, Avenida Ortega y Gasset\, 201\, Málaga\, Málaga\, 29006\, España
CATEGORIES:Meetings
ATTACH;FMTTYPE=image/png:https://fycma.com/wp-content/uploads/2022/03/Imagen-evento-Jornada-Emplea-Turismo.png
ORGANIZER;CN="Mahos":MAILTO:info@mahos.es
END:VEVENT
BEGIN:VEVENT
DTSTART;TZID=Europe/Madrid:20220331T200000
DTEND;TZID=Europe/Madrid:20220331T200000
DTSTAMP:20260422T105615
CREATED:20220301T124756Z
LAST-MODIFIED:20220301T125351Z
UID:10001109-1648756800-1648756800@fycma.com
SUMMARY:Expert Minds: Luis Galindo 2022
DESCRIPTION:Luis Galindo – Listening to the heart\n“There are only two ways to live life: live it with passion or live it with passion”\n\nLuis Galindo has more than 35 years of experience in management positions in different national and international companies in various sectors\, always at the service of numerous Human Teams. \nHe loves people and their development. He has been a speaker at more than 1\,000 conferences and seminars around the world\, with an inspiring and energetic style that makes him unique in connecting with his audience. \nHe is considered a pioneer in the application of positive psychology to team management in Spain. \nThe main objective of his conferences is to develop people so that they can give the best of themselves in their organisations and at the same time reach their highest potential\, both in their personal and professional lives. He addresses important topics such as intelligent optimism\, mature leadership\, emotional intelligence\, positivism\, self-improvement and motivation. \n“Stop thinking about why we can’t do things\, and start thinking about how we can do them”
URL:https://fycma.com/evento/mentes-expertas-luis-galindo-2022/?lang=en
LOCATION:Fycma – Palacio de Ferias y Congresos de Málaga.\, Avenida Ortega y Gasset\, 201\, Málaga\, Málaga\, 29006\, España
CATEGORIES:Entry or registration available,Meetings
ATTACH;FMTTYPE=image/png:https://fycma.com/wp-content/uploads/2022/03/Luis-Galindo-Mentes-Expertas.png
ORGANIZER;CN="Mentes Expertas":MAILTO:info@mentesexpertas.com
END:VEVENT
END:VCALENDAR