BEGIN:VCALENDAR
VERSION:2.0
PRODID:-//FYCMA - ECPv6.15.20//NONSGML v1.0//EN
CALSCALE:GREGORIAN
METHOD:PUBLISH
X-WR-CALNAME:FYCMA
X-ORIGINAL-URL:https://fycma.com/?lang=en
X-WR-CALDESC:Events for FYCMA
REFRESH-INTERVAL;VALUE=DURATION:PT1H
X-Robots-Tag:noindex
X-PUBLISHED-TTL:PT1H
BEGIN:VTIMEZONE
TZID:Europe/Madrid
BEGIN:DAYLIGHT
TZOFFSETFROM:+0100
TZOFFSETTO:+0200
TZNAME:CEST
DTSTART:20220327T010000
END:DAYLIGHT
BEGIN:STANDARD
TZOFFSETFROM:+0200
TZOFFSETTO:+0100
TZNAME:CET
DTSTART:20221030T010000
END:STANDARD
BEGIN:DAYLIGHT
TZOFFSETFROM:+0100
TZOFFSETTO:+0200
TZNAME:CEST
DTSTART:20230326T010000
END:DAYLIGHT
BEGIN:STANDARD
TZOFFSETFROM:+0200
TZOFFSETTO:+0100
TZNAME:CET
DTSTART:20231029T010000
END:STANDARD
BEGIN:DAYLIGHT
TZOFFSETFROM:+0100
TZOFFSETTO:+0200
TZNAME:CEST
DTSTART:20240331T010000
END:DAYLIGHT
BEGIN:STANDARD
TZOFFSETFROM:+0200
TZOFFSETTO:+0100
TZNAME:CET
DTSTART:20241027T010000
END:STANDARD
END:VTIMEZONE
BEGIN:VEVENT
DTSTART;VALUE=DATE:20230131
DTEND;VALUE=DATE:20230202
DTSTAMP:20260422T124018
CREATED:20221129T082415Z
LAST-MODIFIED:20230123T164549Z
UID:10001169-1675123200-1675295999@fycma.com
SUMMARY:Bar Experience Málaga by Ginebralia 2023
DESCRIPTION:Bar Experience Málaga by Ginebralia. BEM Málaga\nA training and informative event at a national level in the world of cocktails and spirituous drinks\, which celebrates its fourth edition in Malaga.
URL:https://fycma.com/evento/bar-experience-malaga-by-ginebralia-2023/?lang=en
LOCATION:Fycma – Palacio de Ferias y Congresos de Málaga.\, Avenida Ortega y Gasset\, 201\, Málaga\, Málaga\, 29006\, España
CATEGORIES:Fairs,Professional fairs
ATTACH;FMTTYPE=image/jpeg:https://fycma.com/wp-content/uploads/2022/11/Cartel-BEM.jpg
ORGANIZER;CN="Ginebralia":MAILTO:info@ginebralia.com
END:VEVENT
BEGIN:VEVENT
DTSTART;VALUE=DATE:20230206
DTEND;VALUE=DATE:20230209
DTSTAMP:20260422T124018
CREATED:20220825T101512Z
LAST-MODIFIED:20230109T115848Z
UID:10001141-1675641600-1675900799@fycma.com
SUMMARY:H&T 2023
DESCRIPTION:H&T\, Hospitality Innovation Exhibition\n\nH&T Malaga is the only meeting point in southern Europe dedicated to the hotel and catering industry\, in which innovation is the transversal axis of both its exhibition offer and its content panel.\n\n\n\nA leading event backed by Spain’s main sectoral associations in the hospitality and hotel industry\, H&T has positioned itself as an essential event in the sector’s annual calendar of meetings. \nThe 25th edition of H&T will resume its traditional date and will be held on 6\, 7 and 8 February 2023\, the ideal time for the presentation of the main trends in the industry and where everything will be geared towards generating business for participating companies and professional visitors\, reinforced by a powerful programme of content and training.
URL:https://fycma.com/evento/ht-2023/?lang=en
LOCATION:Fycma – Palacio de Ferias y Congresos de Málaga.\, Avenida Ortega y Gasset\, 201\, Málaga\, Málaga\, 29006\, España
CATEGORIES:Entry or registration available,Fairs,Professional fairs
ATTACH;FMTTYPE=image/jpeg:https://fycma.com/wp-content/uploads/2020/05/HyT-eventos.jpg
ORGANIZER;CN="FYCMA":MAILTO:info@fycma.com
END:VEVENT
BEGIN:VEVENT
DTSTART;TZID=Europe/Madrid:20230209T100000
DTEND;TZID=Europe/Madrid:20230209T150000
DTSTAMP:20260422T124018
CREATED:20230127T123049Z
LAST-MODIFIED:20230127T143817Z
UID:10001201-1675936800-1675954800@fycma.com
SUMMARY:Young Entrepreneurs Talent Festival Malaga 2023
DESCRIPTION:The Talent Festival goal is to celebrate the impact generated by the radical learning laboratory (TeamLabs/) in its first year in Malaga and to publicize the talent of the first generation of LEINN degree (Entrepreneurial Leadership and Innovation). The event will have several relevant points: \n\nInstitutional Presentation. Representatives of the City Council of Malaga\, ProMalaga\, Mondragon University\, Sngular\, and TeamLabs/ will make a small opening and presentation of the program.\nAcelera: the only pre-university accelerator in Malaga. Acelera is a programme whose objective was to create impact in high school students and help them to take an idea into a real entrepreneurship project. The seven schools that carried out the program will present their best project and receive an award.\nCommunity LEINN Project Fair. You will get to know 20 of the projects with the greatest impact generated within the framework of the LEINN degree. It is a networking opportunity with the largest community of young entrepreneurs in Spain.\n\nSchedule: \n\n10:00 – 10:30h. Welcome accreditation.\n10:30 – 11:30h. Opening of the event and institutional presence.\n11:30 – 12:00h. Break.\n12:00 – 14:00h. Presentation of Acelera projects.\n12:00 – 14:00h. Project Fair.\n14:00 – 15:00h. Final snack and networking.
URL:https://fycma.com/evento/festival-de-talento-jovenes-emprendedores-malaga-2023/?lang=en
LOCATION:Fycma – Palacio de Ferias y Congresos de Málaga.\, Avenida Ortega y Gasset\, 201\, Málaga\, Málaga\, 29006\, España
CATEGORIES:Congress,Entry or registration available,Other events
ATTACH;FMTTYPE=image/png:https://fycma.com/wp-content/uploads/2023/01/Festival-de-talento-jovenes-emprendedores.png
ORGANIZER;CN="TeamLabs":MAILTO:ana.hernandez@teamlabs.es
END:VEVENT
BEGIN:VEVENT
DTSTART;VALUE=DATE:20230210
DTEND;VALUE=DATE:20230211
DTSTAMP:20260422T124018
CREATED:20230125T124831Z
LAST-MODIFIED:20230125T141017Z
UID:10001199-1675987200-1676073599@fycma.com
SUMMARY:XV National Assembly of Social Graduates of Spain 2023
DESCRIPTION:                                                                                                                                                                                                                                                                                                                                             
URL:https://fycma.com/evento/xv-asamblea-nacional-de-graduados-sociales-de-espana-2023/?lang=en
LOCATION:Fycma – Palacio de Ferias y Congresos de Málaga.\, Avenida Ortega y Gasset\, 201\, Málaga\, Málaga\, 29006\, España
CATEGORIES:Congress,Entry or registration available
ATTACH;FMTTYPE=image/jpeg:https://fycma.com/wp-content/uploads/2023/01/cartel-con-colab-graduados-sociales.jpg
END:VEVENT
BEGIN:VEVENT
DTSTART;TZID=Europe/Madrid:20230211T203000
DTEND;TZID=Europe/Madrid:20230211T203000
DTSTAMP:20260422T124018
CREATED:20221207T111530Z
LAST-MODIFIED:20230109T120100Z
UID:10001185-1676147400-1676147400@fycma.com
SUMMARY:Remember Queen 2023
DESCRIPTION:The aim of this show is to create the sensation of seeing Queen live\, thanks to the fact that the members of the show occupy the exact formation that the English group had on stage\, using ten costume changes\, as well as including in the show a visual support with the videos that Queen left us over the years and helping us to get to know Freddy Mercury’s band and the best moments of his career. \nThe artists of Remember Queen take care of the smallest detail of the original show with a staging similar to the one they used in the 86 Tour\, being the last QUEEN Tour with “Freddie Mercury” on stage. The original line-up that thrilled stages all over the world. \nQueen was exceptional because their musicians were exceptional\, such as their drummer Roger Taylor\, a renowned and outstanding musician in the history of rock\, who was also the composer of many of the hits such as “Radio Ga Ga Ga”\, “A Kind of Magic”. Remember Queen drummer Roberto D’Amicis performs other Queen hits like “I’m In Love With My Car”. In the role of Brian May Leo Giannetto and as John Deacon\, Julio Llorca. \nAll of Queen’s hits such as “We are the Champions” or “Bohemian Rapsody” in an internationally successful show seen by more than 500\,000 people starring the world’s best Freddie Mercury lookalike\, Piero Venery\, who from Italy offers us an impeccable characterisation of the artist\, together with his gestures\, dances and staging. \nSeen by more than 500\,000 people in past seasons.
URL:https://fycma.com/evento/remember-queen-2023/?lang=en
LOCATION:Fycma – Palacio de Ferias y Congresos de Málaga.\, Avenida Ortega y Gasset\, 201\, Málaga\, Málaga\, 29006\, España
CATEGORIES:Concerts,Entry or registration available
ATTACH;FMTTYPE=image/jpeg:https://fycma.com/wp-content/uploads/2022/12/Cartel-Remember-Queen-23.jpg
END:VEVENT
BEGIN:VEVENT
DTSTART;TZID=Europe/Madrid:20230212T170000
DTEND;TZID=Europe/Madrid:20230212T170000
DTSTAMP:20260422T124018
CREATED:20220719T105048Z
LAST-MODIFIED:20230119T091935Z
UID:10001133-1676221200-1676221200@fycma.com
SUMMARY:Opera Stars Concert 2023
DESCRIPTION:In her programme “Baroque Music in Film”\, pianist Polina Osetinskaya will perform masterpieces by Bach\, Handel\, Purcell and Rameau\, without which it is impossible to imagine the films of the cult directors of the 20th century: Andrei Tarkovsky\, Francis Ford Coppola\, Lars Von Trier\, Ingmar Bergman and Peter Greenaway. \nFilm geniuses\, winners of every possible world award\, used this music in their famous films: Solaris\, The Godfather\, Breaking the Waves\, Autumn Sonata and The Draughtsman’s Contract. \nGood music has become the most important medium in dramaturgy and has brought great fame to films. The audience will have a great opportunity to be transported to a new world\, to appreciate how music and film combine\, to discover the pianist Polina Osetinskaya and to spend Sunday with the family in an atmosphere of creativity.
URL:https://fycma.com/evento/concierto-estrellas-de-la-opera-2023/?lang=en
LOCATION:Fycma – Palacio de Ferias y Congresos de Málaga.\, Avenida Ortega y Gasset\, 201\, Málaga\, Málaga\, 29006\, España
CATEGORIES:Concerts,Entry or registration available
ATTACH;FMTTYPE=image/jpeg:https://fycma.com/wp-content/uploads/2022/07/Polina-Osetinskaya-poster.jpg
ORGANIZER;CN="Sol Classic Management":MAILTO:Zhdanovasolclassicart@gmail.com
END:VEVENT
BEGIN:VEVENT
DTSTART;VALUE=DATE:20230215
DTEND;VALUE=DATE:20230218
DTSTAMP:20260422T124018
CREATED:20220825T095533Z
LAST-MODIFIED:20230109T120524Z
UID:10001139-1676419200-1676678399@fycma.com
SUMMARY:Transfiere 2023
DESCRIPTION:Transfiere\, European Forum for Science\, Technology and Innovation\nThe main R&D&I meeting in Southern Europe to share scientific and technological knowledge\, promote innovation and connect science and business.\nTransfiere brings together every year in Malaga the main relevant public and private agents in the field of research and knowledge transfer. \nIt is the key professional and multisectoral forum for knowledge transfer\, improving competitiveness in the business sector and generating business and networking opportunities. \nBeing an active part of Transfiere allows you to establish new B2B contacts\, network\, find new partners\, establish strategic alliances and synergies\, as well as to publicise new products\, services and innovative projects.
URL:https://fycma.com/evento/transfiere-2023/?lang=en
LOCATION:Fycma – Palacio de Ferias y Congresos de Málaga.\, Avenida Ortega y Gasset\, 201\, Málaga\, Málaga\, 29006\, España
CATEGORIES:Entry or registration available,Fairs,Professional fairs
ATTACH;FMTTYPE=image/jpeg:https://fycma.com/wp-content/uploads/2020/05/Transfiere-eventos.jpg
ORGANIZER;CN="FYCMA":MAILTO:info@fycma.com
END:VEVENT
BEGIN:VEVENT
DTSTART;VALUE=DATE:20230223
DTEND;VALUE=DATE:20230226
DTSTAMP:20260422T124018
CREATED:20230131T102114Z
LAST-MODIFIED:20230131T121701Z
UID:10001204-1677110400-1677369599@fycma.com
SUMMARY:Congreso SEME y SERECAP 2023
DESCRIPTION:38th National Congress of the Spanish Society of Aesthetic Medicine (SEME 2023) and 4th SERECAP Congress\nThe 38th National Congress of the SEME is the reference meeting of the Aesthetic Medicine sector at national and international level. The scientific programme features high-level national and international speakers and also incorporates a practical programme that includes technological innovations\, new demands and the scientific analysis of new products\, while providing answers to current issues\, such as the psychological approach of the patient who comes to our offices\, buttocks\, toxin or localised adiposity. On the other hand\, the Congress has the support of the industry\, not only through its presence at the event through the commercial exhibition\, but also through its participation in the workshops\, symposiums and the on-going clinic\, which allows for live updates on techniques and treatments.
URL:https://fycma.com/evento/congreso-seme-y-serecap-2023/?lang=en
LOCATION:Fycma – Palacio de Ferias y Congresos de Málaga.\, Avenida Ortega y Gasset\, 201\, Málaga\, Málaga\, 29006\, España
CATEGORIES:Congress,Entry or registration available
ATTACH;FMTTYPE=image/jpeg:https://fycma.com/wp-content/uploads/2023/01/Cartel_SEME_2023-2.jpg
ORGANIZER;CN="SEME - Sociedad Espa%C3%B1ola de Restauraci%C3%B3n Capilar":MAILTO:seme2024@pacifico-meetings.com
END:VEVENT
END:VCALENDAR