BEGIN:VCALENDAR
VERSION:2.0
PRODID:-//FYCMA - ECPv6.15.20//NONSGML v1.0//EN
CALSCALE:GREGORIAN
METHOD:PUBLISH
X-ORIGINAL-URL:https://fycma.com
X-WR-CALDESC:Eventos para FYCMA
REFRESH-INTERVAL;VALUE=DURATION:PT1H
X-Robots-Tag:noindex
X-PUBLISHED-TTL:PT1H
BEGIN:VTIMEZONE
TZID:Europe/Madrid
BEGIN:DAYLIGHT
TZOFFSETFROM:+0100
TZOFFSETTO:+0200
TZNAME:CEST
DTSTART:20250330T010000
END:DAYLIGHT
BEGIN:STANDARD
TZOFFSETFROM:+0200
TZOFFSETTO:+0100
TZNAME:CET
DTSTART:20251026T010000
END:STANDARD
BEGIN:DAYLIGHT
TZOFFSETFROM:+0100
TZOFFSETTO:+0200
TZNAME:CEST
DTSTART:20260329T010000
END:DAYLIGHT
BEGIN:STANDARD
TZOFFSETFROM:+0200
TZOFFSETTO:+0100
TZNAME:CET
DTSTART:20261025T010000
END:STANDARD
BEGIN:DAYLIGHT
TZOFFSETFROM:+0100
TZOFFSETTO:+0200
TZNAME:CEST
DTSTART:20270328T010000
END:DAYLIGHT
BEGIN:STANDARD
TZOFFSETFROM:+0200
TZOFFSETTO:+0100
TZNAME:CET
DTSTART:20271031T010000
END:STANDARD
END:VTIMEZONE
BEGIN:VEVENT
DTSTART;VALUE=DATE:20261001
DTEND;VALUE=DATE:20261005
DTSTAMP:20260422T104504
CREATED:20260319T165732Z
LAST-MODIFIED:20260320T095307Z
UID:10001726-1790812800-1791158399@fycma.com
SUMMARY:San Diego Comic-Con Málaga 2026
DESCRIPTION:San Diego Comic-Con Málaga\, la edición europea oficial de la convención internacional de cultura pop más influyente del mundo\, regresará a FYCMA (Palacio de Ferias y Congresos de Málaga) en su segunda edición del 1 al 4 de octubre de 2026. \nEl evento reúne a fans\, creadores\, estudios\, editoriales y empresas del sector del entretenimiento en torno al cine\, las series\, el cómic\, los videojuegos\, la animación y otras industrias creativas. \nPróximamente más detalles en sandiegocomicconmalaga.com \nEntérate\nde todo Suscribirme a la newsletterEntérate de todoSuscribirme a la newsletter
URL:https://fycma.com/evento/san-diego-comic-con-malaga-sdcc-malaga-2026/
LOCATION:Fycma – Palacio de Ferias y Congresos de Málaga.\, Avenida Ortega y Gasset\, 201\, Málaga\, Málaga\, 29006\, España
CATEGORIES:Entrada o inscripción disponible,Otros Eventos
ATTACH;FMTTYPE=image/jpeg:https://fycma.com/wp-content/uploads/2026/03/comic-com-2026-1.jpg
ORGANIZER;CN="Cosmic Legends Productions S.L.":MAILTO:info@sandiegocomicconmalaga.com
END:VEVENT
END:VCALENDAR