BEGIN:VCALENDAR
VERSION:2.0
PRODID:-//FYCMA - ECPv6.15.20//NONSGML v1.0//EN
CALSCALE:GREGORIAN
METHOD:PUBLISH
X-ORIGINAL-URL:https://fycma.com
X-WR-CALDESC:Eventos para FYCMA
REFRESH-INTERVAL;VALUE=DURATION:PT1H
X-Robots-Tag:noindex
X-PUBLISHED-TTL:PT1H
BEGIN:VTIMEZONE
TZID:Europe/Madrid
BEGIN:DAYLIGHT
TZOFFSETFROM:+0100
TZOFFSETTO:+0200
TZNAME:CEST
DTSTART:20210328T010000
END:DAYLIGHT
BEGIN:STANDARD
TZOFFSETFROM:+0200
TZOFFSETTO:+0100
TZNAME:CET
DTSTART:20211031T010000
END:STANDARD
BEGIN:DAYLIGHT
TZOFFSETFROM:+0100
TZOFFSETTO:+0200
TZNAME:CEST
DTSTART:20220327T010000
END:DAYLIGHT
BEGIN:STANDARD
TZOFFSETFROM:+0200
TZOFFSETTO:+0100
TZNAME:CET
DTSTART:20221030T010000
END:STANDARD
BEGIN:DAYLIGHT
TZOFFSETFROM:+0100
TZOFFSETTO:+0200
TZNAME:CEST
DTSTART:20230326T010000
END:DAYLIGHT
BEGIN:STANDARD
TZOFFSETFROM:+0200
TZOFFSETTO:+0100
TZNAME:CET
DTSTART:20231029T010000
END:STANDARD
END:VTIMEZONE
BEGIN:VEVENT
DTSTART;TZID=Europe/Madrid:20221123T170000
DTEND;TZID=Europe/Madrid:20221123T203000
DTSTAMP:20260422T130503
CREATED:20221026T103715Z
LAST-MODIFIED:20221118T105541Z
UID:10001156-1669222800-1669235400@fycma.com
SUMMARY:VI Talent Summit 2022
DESCRIPTION:Talent Summit es un evento anual en el que se dan cita las mejores startups e iniciativas con base tecnológica relacionadas con la gestión del talento\, junto con profesionales y consultoras de recursos humanos y los principales agentes relacionados con el ecosistema del emprendimiento como aceleradoras\, inversores e incubadoras. \nEste encuentro se convierte en una gran oportunidad para conocer y compartir las propuestas que el mercado necesita para abordar la transformación digital en la que estamos inmersos.
URL:https://fycma.com/evento/vi-talent-summit-2022/
LOCATION:Fycma – Palacio de Ferias y Congresos de Málaga.\, Avenida Ortega y Gasset\, 201\, Málaga\, Málaga\, 29006\, España
CATEGORIES:Entrada o inscripción disponible,Jornadas
ATTACH;FMTTYPE=image/jpeg:https://fycma.com/wp-content/uploads/2022/10/Cartel-evento-Talent-Summit-22.jpg
ORGANIZER;CN="Fundaci%C3%B3n Transforma Espa%C3%B1a":MAILTO:info@ftransformaespana.es
END:VEVENT
END:VCALENDAR